BEGIN:VCALENDAR
VERSION:2.0
METHOD:PUBLISH
X-WR-CALNAME:RidgeView School |  December 01 2017- January 01 2018 | Filter\: 
PRODID:-//strange bird labs//Drupal iCal API//EN
BEGIN:VEVENT
DTSTAMP;VALUE=DATE-TIME:20180120T225842Z
DTSTART;VALUE=DATE-TIME:20171130T190500Z
DTEND;VALUE=DATE-TIME:20020203
UID:http://ridgeview.school.nz/subway-lunch-orders-2
URL;VALUE=URI:http://ridgeview.school.nz/subway-lunch-orders-2
SUMMARY:Subway lunch orders
END:VEVENT
BEGIN:VEVENT
DTSTAMP;VALUE=DATE-TIME:20180120T225842Z
DTSTART;VALUE=DATE-TIME:20171205T023000Z
DTEND;VALUE=DATE-TIME:20171205T043000Z
UID:http://ridgeview.school.nz/money-making-market-day-all-students
URL;VALUE=URI:http://ridgeview.school.nz/money-making-market-day-all-students
SUMMARY:Money Making Market Day (all students)
END:VEVENT
BEGIN:VEVENT
DTSTAMP;VALUE=DATE-TIME:20180120T225842Z
DTSTART;VALUE=DATE-TIME:20171207T190600Z
DTEND;VALUE=DATE-TIME:20020203
UID:http://ridgeview.school.nz/american-hotdog-lunch-orders-3
URL;VALUE=URI:http://ridgeview.school.nz/american-hotdog-lunch-orders-3
SUMMARY:American hotdog lunch orders
END:VEVENT
BEGIN:VEVENT
DTSTAMP;VALUE=DATE-TIME:20180120T225842Z
DTSTART;VALUE=DATE-TIME:20171214T043000Z
DTEND;VALUE=DATE-TIME:20171214T043000Z
UID:http://ridgeview.school.nz/end-of-year-concert-leavers-ceremony-and-picnic
URL;VALUE=URI:http://ridgeview.school.nz/end-of-year-concert-leavers-ceremony-and-picnic
SUMMARY:End of Year Concert\, Leavers' Ceremony and Picnic
END:VEVENT
BEGIN:VEVENT
DTSTAMP;VALUE=DATE-TIME:20180120T225842Z
DTSTART;VALUE=DATE-TIME:20171214T190600Z
DTEND;VALUE=DATE-TIME:20020203
UID:http://ridgeview.school.nz/subway-lunch-orders-3
URL;VALUE=URI:http://ridgeview.school.nz/subway-lunch-orders-3
SUMMARY:Subway lunch orders
END:VEVENT
BEGIN:VEVENT
DTSTAMP;VALUE=DATE-TIME:20180120T225842Z
DTSTART;VALUE=DATE-TIME:20171215T000000Z
DTEND;VALUE=DATE-TIME:20020203
UID:http://ridgeview.school.nz/300pm-end-of-term-4-0
URL;VALUE=URI:http://ridgeview.school.nz/300pm-end-of-term-4-0
SUMMARY:3.00pm End of Term 4
END:VEVENT
BEGIN:VEVENT
DTSTAMP;VALUE=DATE-TIME:20180120T225842Z
DTSTART;VALUE=DATE-TIME:20171215T015500Z
DTEND;VALUE=DATE-TIME:20171215T015500Z
UID:http://ridgeview.school.nz/255pm-clapping-out-ceremony-for-all-leavers
URL;VALUE=URI:http://ridgeview.school.nz/255pm-clapping-out-ceremony-for-all-leavers
SUMMARY:2.55pm Clapping Out Ceremony for all leavers
END:VEVENT
END:VCALENDAR
