BEGIN:VCALENDAR
VERSION:2.0
METHOD:PUBLISH
X-WR-CALNAME:RidgeView School |  November 01 2017- December 01 2017 | Filter\: 
PRODID:-//strange bird labs//Drupal iCal API//EN
BEGIN:VEVENT
DTSTAMP;VALUE=DATE-TIME:20180120T230517Z
DTSTART;VALUE=DATE-TIME:20171101T203000Z
DTEND;VALUE=DATE-TIME:20171101T233000Z
UID:http://ridgeview.school.nz/epro-8-challenge-for-selected-students
URL;VALUE=URI:http://ridgeview.school.nz/epro-8-challenge-for-selected-students
SUMMARY:EPro 8 Challenge for selected students
DESCRIPTION:<p>Glenfield Intermediate</p>
 
END:VEVENT
BEGIN:VEVENT
DTSTAMP;VALUE=DATE-TIME:20180120T230517Z
DTSTART;VALUE=DATE-TIME:20171102T190400Z
DTEND;VALUE=DATE-TIME:20020203
UID:http://ridgeview.school.nz/subway-lunch-orders-0
URL;VALUE=URI:http://ridgeview.school.nz/subway-lunch-orders-0
SUMMARY:Subway lunch orders
END:VEVENT
BEGIN:VEVENT
DTSTAMP;VALUE=DATE-TIME:20180120T230517Z
DTSTART;VALUE=DATE-TIME:20171108T200000Z
DTEND;VALUE=DATE-TIME:20171109T013000Z
UID:http://ridgeview.school.nz/athletics-day-at-riverhead-domain-for-whole-school
URL;VALUE=URI:http://ridgeview.school.nz/athletics-day-at-riverhead-domain-for-whole-school
SUMMARY:Athletics Day at Riverhead Domain for whole school
END:VEVENT
BEGIN:VEVENT
DTSTAMP;VALUE=DATE-TIME:20180120T230517Z
DTSTART;VALUE=DATE-TIME:20171109T190400Z
DTEND;VALUE=DATE-TIME:20020203
UID:http://ridgeview.school.nz/american-hotdog-orders
URL;VALUE=URI:http://ridgeview.school.nz/american-hotdog-orders
SUMMARY:American hotdog orders
END:VEVENT
BEGIN:VEVENT
DTSTAMP;VALUE=DATE-TIME:20180120T230517Z
DTSTART;VALUE=DATE-TIME:20171116T190500Z
DTEND;VALUE=DATE-TIME:20020203
UID:http://ridgeview.school.nz/subway-lunch-orders-1
URL;VALUE=URI:http://ridgeview.school.nz/subway-lunch-orders-1
SUMMARY:Subway lunch orders
END:VEVENT
BEGIN:VEVENT
DTSTAMP;VALUE=DATE-TIME:20180120T230517Z
DTSTART;VALUE=DATE-TIME:20171116T191000Z
DTEND;VALUE=DATE-TIME:20020203
UID:http://ridgeview.school.nz/kapa-haka-group-perform-at-onepoto-cultural-festival
URL;VALUE=URI:http://ridgeview.school.nz/kapa-haka-group-perform-at-onepoto-cultural-festival
SUMMARY:Kapa Haka group perform at Onepoto Cultural Festival
DESCRIPTION:<p>Time to be advised</p>
 
END:VEVENT
BEGIN:VEVENT
DTSTAMP;VALUE=DATE-TIME:20180120T230517Z
DTSTART;VALUE=DATE-TIME:20171119T203000Z
DTEND;VALUE=DATE-TIME:20171119T203000Z
UID:http://ridgeview.school.nz/education-review-office-visit-ridgeview-school-930am-powhiri
URL;VALUE=URI:http://ridgeview.school.nz/education-review-office-visit-ridgeview-school-930am-powhiri
SUMMARY:Education Review Office visit RidgeView School (9.30am powhiri)
END:VEVENT
BEGIN:VEVENT
DTSTAMP;VALUE=DATE-TIME:20180120T230517Z
DTSTART;VALUE=DATE-TIME:20171123T190500Z
DTEND;VALUE=DATE-TIME:20020203
UID:http://ridgeview.school.nz/american-hotdog-lunch-orders-2
URL;VALUE=URI:http://ridgeview.school.nz/american-hotdog-lunch-orders-2
SUMMARY:American hotdog lunch orders
END:VEVENT
BEGIN:VEVENT
DTSTAMP;VALUE=DATE-TIME:20180120T230517Z
DTSTART;VALUE=DATE-TIME:20171126T191200Z
DTEND;VALUE=DATE-TIME:20020203
UID:http://ridgeview.school.nz/visit-to-hmnzs-endeavour-whole-school
URL;VALUE=URI:http://ridgeview.school.nz/visit-to-hmnzs-endeavour-whole-school
SUMMARY:Visit to HMNZS Endeavour (whole school)
END:VEVENT
BEGIN:VEVENT
DTSTAMP;VALUE=DATE-TIME:20180120T230517Z
DTSTART;VALUE=DATE-TIME:20171129T050000Z
DTEND;VALUE=DATE-TIME:20171129T050000Z
UID:http://ridgeview.school.nz/board-of-trustees-meeting-0
URL;VALUE=URI:http://ridgeview.school.nz/board-of-trustees-meeting-0
SUMMARY:Board of Trustees meeting
END:VEVENT
END:VCALENDAR
