BEGIN:VCALENDAR
VERSION:2.0
METHOD:PUBLISH
X-WR-CALNAME:RidgeView School |  October 01 2017- November 01 2017 | Filter\: 
PRODID:-//strange bird labs//Drupal iCal API//EN
BEGIN:VEVENT
DTSTAMP;VALUE=DATE-TIME:20180120T231326Z
DTSTART;VALUE=DATE-TIME:20171015T185500Z
DTEND;VALUE=DATE-TIME:20020203
UID:http://ridgeview.school.nz/epro-8-challenge-extension-programme-begins
URL;VALUE=URI:http://ridgeview.school.nz/epro-8-challenge-extension-programme-begins
SUMMARY:EPro 8 Challenge Extension Programme begins
DESCRIPTION:<p>Selected students are invited to take part in this EPro 8 Technology\, Science and Engineering programme.</p>
 
END:VEVENT
BEGIN:VEVENT
DTSTAMP;VALUE=DATE-TIME:20180120T231326Z
DTSTART;VALUE=DATE-TIME:20171015T235900Z
DTEND;VALUE=DATE-TIME:20020203
UID:http://ridgeview.school.nz/900am-beginning-of-term-4
URL;VALUE=URI:http://ridgeview.school.nz/900am-beginning-of-term-4
SUMMARY:9.00am Beginning of Term 4
END:VEVENT
BEGIN:VEVENT
DTSTAMP;VALUE=DATE-TIME:20180120T231326Z
DTSTART;VALUE=DATE-TIME:20171019T185700Z
DTEND;VALUE=DATE-TIME:20020203
UID:http://ridgeview.school.nz/subway-lunch-orders-today
URL;VALUE=URI:http://ridgeview.school.nz/subway-lunch-orders-today
SUMMARY:Subway lunch orders today
END:VEVENT
BEGIN:VEVENT
DTSTAMP;VALUE=DATE-TIME:20180120T231326Z
DTSTART;VALUE=DATE-TIME:20171019T185800Z
DTEND;VALUE=DATE-TIME:20020203
UID:http://ridgeview.school.nz/kiwi-sport-cricket-for-all-children-this-afternoon
URL;VALUE=URI:http://ridgeview.school.nz/kiwi-sport-cricket-for-all-children-this-afternoon
SUMMARY:Kiwi Sport Cricket for all children this afternoon
END:VEVENT
BEGIN:VEVENT
DTSTAMP;VALUE=DATE-TIME:20180120T231326Z
DTSTART;VALUE=DATE-TIME:20171022T185800Z
DTEND;VALUE=DATE-TIME:20020203
UID:http://ridgeview.school.nz/labour-day-school-closed-1
URL;VALUE=URI:http://ridgeview.school.nz/labour-day-school-closed-1
SUMMARY:Labour Day - School Closed
END:VEVENT
BEGIN:VEVENT
DTSTAMP;VALUE=DATE-TIME:20180120T231326Z
DTSTART;VALUE=DATE-TIME:20171025T050000Z
DTEND;VALUE=DATE-TIME:20171025T050000Z
UID:http://ridgeview.school.nz/board-of-trustees-meeting
URL;VALUE=URI:http://ridgeview.school.nz/board-of-trustees-meeting
SUMMARY:Board of Trustees meeting
END:VEVENT
BEGIN:VEVENT
DTSTAMP;VALUE=DATE-TIME:20180120T231326Z
DTSTART;VALUE=DATE-TIME:20171026T053000Z
DTEND;VALUE=DATE-TIME:20171026T073000Z
UID:http://ridgeview.school.nz/ridgeview-school-disco
URL;VALUE=URI:http://ridgeview.school.nz/ridgeview-school-disco
SUMMARY:RidgeView School Disco
DESCRIPTION:<p>$5 tickets&nbsp\;</p>
 <p>RidgeView School students only</p>
 <p>Students must be personally collected by a designated caregiver from the door of the disco.&nbsp\; i.e. For students' safety\, they will not be allowed to meet you on the road.</p>
 
END:VEVENT
BEGIN:VEVENT
DTSTAMP;VALUE=DATE-TIME:20180120T231326Z
DTSTART;VALUE=DATE-TIME:20171026T190200Z
DTEND;VALUE=DATE-TIME:20020203
UID:http://ridgeview.school.nz/american-hotdog-lunch-orders-today
URL;VALUE=URI:http://ridgeview.school.nz/american-hotdog-lunch-orders-today
SUMMARY:American Hotdog lunch orders today
END:VEVENT
BEGIN:VEVENT
DTSTAMP;VALUE=DATE-TIME:20180120T231326Z
DTSTART;VALUE=DATE-TIME:20171029T200000Z
DTEND;VALUE=DATE-TIME:20171029T200000Z
UID:http://ridgeview.school.nz/ajhs-assessment-for-year-6-students
URL;VALUE=URI:http://ridgeview.school.nz/ajhs-assessment-for-year-6-students
SUMMARY:AJHS Assessment for Year 6 students
END:VEVENT
END:VCALENDAR
