BEGIN:VCALENDAR
VERSION:2.0
METHOD:PUBLISH
X-WR-CALNAME:RidgeView School |  September 01 2017- October 01 2017
PRODID:-//strange bird labs//Drupal iCal API//EN
BEGIN:VEVENT
DTSTAMP;VALUE=DATE-TIME:20180120T231358Z
DTSTART;VALUE=DATE-TIME:20170928T235900Z
DTEND;VALUE=DATE-TIME:20020203
UID:http://ridgeview.school.nz/300pm-end-of-term-3
URL;VALUE=URI:http://ridgeview.school.nz/300pm-end-of-term-3
SUMMARY:3.00pm End of Term 3
END:VEVENT
END:VCALENDAR
