BEGIN:VCALENDAR
VERSION:2.0
METHOD:PUBLISH
X-WR-CALNAME:RidgeView School |  July 01 2017- August 01 2017
PRODID:-//strange bird labs//Drupal iCal API//EN
BEGIN:VEVENT
DTSTAMP;VALUE=DATE-TIME:20180120T232720Z
DTSTART;VALUE=DATE-TIME:20170706T235500Z
DTEND;VALUE=DATE-TIME:20020203
UID:http://ridgeview.school.nz/300pm-end-of-term-2
URL;VALUE=URI:http://ridgeview.school.nz/300pm-end-of-term-2
SUMMARY:3.00pm End of Term 2
END:VEVENT
BEGIN:VEVENT
DTSTAMP;VALUE=DATE-TIME:20180120T232720Z
DTSTART;VALUE=DATE-TIME:20170723T235600Z
DTEND;VALUE=DATE-TIME:20020203
UID:http://ridgeview.school.nz/900am-beginning-of-term-3
URL;VALUE=URI:http://ridgeview.school.nz/900am-beginning-of-term-3
SUMMARY:9.00am Beginning of Term 3
END:VEVENT
END:VCALENDAR
