BEGIN:VCALENDAR
VERSION:2.0
METHOD:PUBLISH
X-WR-CALNAME:RidgeView School |  June 01 2017- July 01 2017
PRODID:-//strange bird labs//Drupal iCal API//EN
BEGIN:VEVENT
DTSTAMP;VALUE=DATE-TIME:20180120T233156Z
DTSTART;VALUE=DATE-TIME:20170601T235400Z
DTEND;VALUE=DATE-TIME:20020203
UID:http://ridgeview.school.nz/teacher-only-day-school-closed
URL;VALUE=URI:http://ridgeview.school.nz/teacher-only-day-school-closed
SUMMARY:Teacher Only Day - School closed
END:VEVENT
BEGIN:VEVENT
DTSTAMP;VALUE=DATE-TIME:20180120T233156Z
DTSTART;VALUE=DATE-TIME:20170604T235500Z
DTEND;VALUE=DATE-TIME:20020203
UID:http://ridgeview.school.nz/queens-birthday-school-closed
URL;VALUE=URI:http://ridgeview.school.nz/queens-birthday-school-closed
SUMMARY:Queen's Birthday - School closed
END:VEVENT
END:VCALENDAR
