BEGIN:VCALENDAR
VERSION:2.0
METHOD:PUBLISH
X-WR-CALNAME:RidgeView School |  April 01 2017- May 01 2017 | Filter\: 
PRODID:-//strange bird labs//Drupal iCal API//EN
BEGIN:VEVENT
DTSTAMP;VALUE=DATE-TIME:20180123T024227Z
DTSTART;VALUE=DATE-TIME:20170404T235200Z
DTEND;VALUE=DATE-TIME:20020203
UID:http://ridgeview.school.nz/900am-930am-whole-school-assembly-families-invited-to-attend-0
URL;VALUE=URI:http://ridgeview.school.nz/900am-930am-whole-school-assembly-families-invited-to-attend-0
SUMMARY:9.00am - 9.30am Whole School Assembly - families invited to attend
END:VEVENT
BEGIN:VEVENT
DTSTAMP;VALUE=DATE-TIME:20180123T024227Z
DTSTART;VALUE=DATE-TIME:20170412T235300Z
DTEND;VALUE=DATE-TIME:20020203
UID:http://ridgeview.school.nz/300pm-end-of-term-1
URL;VALUE=URI:http://ridgeview.school.nz/300pm-end-of-term-1
SUMMARY:3.00pm End of Term 1
END:VEVENT
END:VCALENDAR
