BEGIN:VCALENDAR
VERSION:2.0
METHOD:PUBLISH
X-WR-CALNAME:RidgeView School |  March 01 2017- April 01 2017 | Filter\: 
PRODID:-//strange bird labs//Drupal iCal API//EN
BEGIN:VEVENT
DTSTAMP;VALUE=DATE-TIME:20180123T024924Z
DTSTART;VALUE=DATE-TIME:20170228T234600Z
DTEND;VALUE=DATE-TIME:20170228T234600Z
UID:http://ridgeview.school.nz/900am-930am-whole-school-assembly-families-invited-to-attend
URL;VALUE=URI:http://ridgeview.school.nz/900am-930am-whole-school-assembly-families-invited-to-attend
SUMMARY:9.00am - 9.30am Whole School Assembly - families invited to attend
END:VEVENT
BEGIN:VEVENT
DTSTAMP;VALUE=DATE-TIME:20180123T024924Z
DTSTART;VALUE=DATE-TIME:20170308T021500Z
DTEND;VALUE=DATE-TIME:20170308T021500Z
UID:http://ridgeview.school.nz/student-led-conferences-1-1
URL;VALUE=URI:http://ridgeview.school.nz/student-led-conferences-1-1
SUMMARY:Student Led Conferences #1
END:VEVENT
BEGIN:VEVENT
DTSTAMP;VALUE=DATE-TIME:20180123T024924Z
DTSTART;VALUE=DATE-TIME:20170309T021500Z
DTEND;VALUE=DATE-TIME:20170309T021500Z
UID:http://ridgeview.school.nz/student-led-conferences-2-1
URL;VALUE=URI:http://ridgeview.school.nz/student-led-conferences-2-1
SUMMARY:Student Led Conferences #2
END:VEVENT
BEGIN:VEVENT
DTSTAMP;VALUE=DATE-TIME:20180123T024924Z
DTSTART;VALUE=DATE-TIME:20170310T001500Z
DTEND;VALUE=DATE-TIME:20170310T020000Z
UID:http://ridgeview.school.nz/swimming-carnival-families-invited-to-attend
URL;VALUE=URI:http://ridgeview.school.nz/swimming-carnival-families-invited-to-attend
SUMMARY:Swimming Carnival - Families invited to attend
END:VEVENT
BEGIN:VEVENT
DTSTAMP;VALUE=DATE-TIME:20180123T024924Z
DTSTART;VALUE=DATE-TIME:20170315T224900Z
DTEND;VALUE=DATE-TIME:20020203
UID:http://ridgeview.school.nz/interschool-swimming-competition-at-coatesville-school-for-selected-8-year-students
URL;VALUE=URI:http://ridgeview.school.nz/interschool-swimming-competition-at-coatesville-school-for-selected-8-year-students
SUMMARY:Interschool Swimming Competition at Coatesville School for selected 8 year+ students
END:VEVENT
BEGIN:VEVENT
DTSTAMP;VALUE=DATE-TIME:20180123T024924Z
DTSTART;VALUE=DATE-TIME:20170319T235100Z
DTEND;VALUE=DATE-TIME:20020203
UID:http://ridgeview.school.nz/600pm-board-of-trustees-meeting-0
URL;VALUE=URI:http://ridgeview.school.nz/600pm-board-of-trustees-meeting-0
SUMMARY:6.00pm Board of Trustees meeting
END:VEVENT
BEGIN:VEVENT
DTSTAMP;VALUE=DATE-TIME:20180123T024924Z
DTSTART;VALUE=DATE-TIME:20170319T235300Z
DTEND;VALUE=DATE-TIME:20020203
UID:http://ridgeview.school.nz/600pm-board-of-trustees-meeting-1
URL;VALUE=URI:http://ridgeview.school.nz/600pm-board-of-trustees-meeting-1
SUMMARY:6.00pm Board of Trustees meeting
END:VEVENT
BEGIN:VEVENT
DTSTAMP;VALUE=DATE-TIME:20180123T024924Z
DTSTART;VALUE=DATE-TIME:20170330T235100Z
DTEND;VALUE=DATE-TIME:20020203
UID:http://ridgeview.school.nz/whole-school-biathlon-families-invited-to-support
URL;VALUE=URI:http://ridgeview.school.nz/whole-school-biathlon-families-invited-to-support
SUMMARY:Whole School Biathlon - Families invited to support 
END:VEVENT
END:VCALENDAR
