BEGIN:VCALENDAR
VERSION:2.0
METHOD:PUBLISH
X-WR-CALNAME:RidgeView School |  February 01 2017- March 01 2017 | Filter\: 
PRODID:-//strange bird labs//Drupal iCal API//EN
BEGIN:VEVENT
DTSTAMP;VALUE=DATE-TIME:20180123T025541Z
DTSTART;VALUE=DATE-TIME:20170219T232900Z
DTEND;VALUE=DATE-TIME:20170219T232900Z
UID:http://ridgeview.school.nz/600pm-board-of-trustees-meeting
URL;VALUE=URI:http://ridgeview.school.nz/600pm-board-of-trustees-meeting
SUMMARY:6.00pm Board of Trustees meeting
END:VEVENT
BEGIN:VEVENT
DTSTAMP;VALUE=DATE-TIME:20180123T025541Z
DTSTART;VALUE=DATE-TIME:20170221T234300Z
DTEND;VALUE=DATE-TIME:20170221T234300Z
UID:http://ridgeview.school.nz/830am-future-leaders-group-begins-and-continues-every-wednesday-morning
URL;VALUE=URI:http://ridgeview.school.nz/830am-future-leaders-group-begins-and-continues-every-wednesday-morning
SUMMARY:8.30am Future Leaders Group begins and continues every Wednesday morning
END:VEVENT
END:VCALENDAR
