BEGIN:VCALENDAR
VERSION:2.0
METHOD:PUBLISH
X-WR-CALNAME:RidgeView School |  November 01 2016- December 01 2016 | Filter\: 
PRODID:-//strange bird labs//Drupal iCal API//EN
BEGIN:VEVENT
DTSTAMP;VALUE=DATE-TIME:20180123T031335Z
DTSTART;VALUE=DATE-TIME:20161102T074600Z
DTEND;VALUE=DATE-TIME:20020203
UID:http://ridgeview.school.nz/whole-school-trip-to-motat-0
URL;VALUE=URI:http://ridgeview.school.nz/whole-school-trip-to-motat-0
SUMMARY:Whole School Trip to MOTAT
END:VEVENT
END:VCALENDAR
