BEGIN:VCALENDAR
VERSION:2.0
METHOD:PUBLISH
X-WR-CALNAME:RidgeView School |  October 01 2016- November 01 2016
PRODID:-//strange bird labs//Drupal iCal API//EN
BEGIN:VEVENT
DTSTAMP;VALUE=DATE-TIME:20180123T031534Z
DTSTART;VALUE=DATE-TIME:20161007T074200Z
DTEND;VALUE=DATE-TIME:20020203
UID:http://ridgeview.school.nz/kiwi-sport-golf-begins-today-and-continue-for-four-weeks-every-friday
URL;VALUE=URI:http://ridgeview.school.nz/kiwi-sport-golf-begins-today-and-continue-for-four-weeks-every-friday
SUMMARY:Kiwi Sport Golf - begins today and continue for four weeks (every Friday)
END:VEVENT
BEGIN:VEVENT
DTSTAMP;VALUE=DATE-TIME:20180123T031534Z
DTSTART;VALUE=DATE-TIME:20161012T072300Z
DTEND;VALUE=DATE-TIME:20020203
UID:http://ridgeview.school.nz/chocolate-muffins-for-morning-tea-1-medium-50c-mini-orders-begin-today-and-continue-every-second-wed
URL;VALUE=URI:http://ridgeview.school.nz/chocolate-muffins-for-morning-tea-1-medium-50c-mini-orders-begin-today-and-continue-every-second-wed
SUMMARY:Chocolate muffins for morning tea $1 medium / 50c mini   Orders begin today and continue every second Wednesday.
END:VEVENT
BEGIN:VEVENT
DTSTAMP;VALUE=DATE-TIME:20180123T031534Z
DTSTART;VALUE=DATE-TIME:20161014T072300Z
DTEND;VALUE=DATE-TIME:20020203
UID:http://ridgeview.school.nz/american-hotdog-lunch-orders-begin-today-and-continue-every-second-friday-0
URL;VALUE=URI:http://ridgeview.school.nz/american-hotdog-lunch-orders-begin-today-and-continue-every-second-friday-0
SUMMARY:American hotdog lunch orders begin today and continue every second Friday
END:VEVENT
BEGIN:VEVENT
DTSTAMP;VALUE=DATE-TIME:20180123T031534Z
DTSTART;VALUE=DATE-TIME:20161021T072200Z
DTEND;VALUE=DATE-TIME:20020203
UID:http://ridgeview.school.nz/subway-lunch-orders-begin-today-and-continue-every-second-friday-0
URL;VALUE=URI:http://ridgeview.school.nz/subway-lunch-orders-begin-today-and-continue-every-second-friday-0
SUMMARY:Subway lunch orders begin today and continue every second Friday
END:VEVENT
BEGIN:VEVENT
DTSTAMP;VALUE=DATE-TIME:20180123T031534Z
DTSTART;VALUE=DATE-TIME:20161024T074500Z
DTEND;VALUE=DATE-TIME:20020203
UID:http://ridgeview.school.nz/labour-day-school-closed-0
URL;VALUE=URI:http://ridgeview.school.nz/labour-day-school-closed-0
SUMMARY:Labour Day - School Closed
END:VEVENT
BEGIN:VEVENT
DTSTAMP;VALUE=DATE-TIME:20180123T031534Z
DTSTART;VALUE=DATE-TIME:20161026T074500Z
DTEND;VALUE=DATE-TIME:20020203
UID:http://ridgeview.school.nz/chocolate-muffins-for-morning-tea-1-medium-50c-mini
URL;VALUE=URI:http://ridgeview.school.nz/chocolate-muffins-for-morning-tea-1-medium-50c-mini
SUMMARY:Chocolate muffins for morning tea $1 medium / 50c mini  
END:VEVENT
BEGIN:VEVENT
DTSTAMP;VALUE=DATE-TIME:20180123T031534Z
DTSTART;VALUE=DATE-TIME:20161028T072400Z
DTEND;VALUE=DATE-TIME:20020203
UID:http://ridgeview.school.nz/future-leaders-mufti-day-gold-coin-please
URL;VALUE=URI:http://ridgeview.school.nz/future-leaders-mufti-day-gold-coin-please
SUMMARY:Future Leaders' Mufti Day - gold coin please
END:VEVENT
BEGIN:VEVENT
DTSTAMP;VALUE=DATE-TIME:20180123T031534Z
DTSTART;VALUE=DATE-TIME:20161028T074600Z
DTEND;VALUE=DATE-TIME:20161028T074600Z
UID:http://ridgeview.school.nz/american-hotdog-lunch-orders-1
URL;VALUE=URI:http://ridgeview.school.nz/american-hotdog-lunch-orders-1
SUMMARY:American hotdog lunch orders
END:VEVENT
END:VCALENDAR
