BEGIN:VCALENDAR
VERSION:2.0
METHOD:PUBLISH
X-WR-CALNAME:RidgeView School |  September 01 2016- October 01 2016
PRODID:-//strange bird labs//Drupal iCal API//EN
BEGIN:VEVENT
DTSTAMP;VALUE=DATE-TIME:20180123T032239Z
DTSTART;VALUE=DATE-TIME:20160831T220000Z
DTEND;VALUE=DATE-TIME:20160831T220000Z
UID:http://ridgeview.school.nz/speech-competition-for-selected-senior-students
URL;VALUE=URI:http://ridgeview.school.nz/speech-competition-for-selected-senior-students
SUMMARY:Speech Competition for selected senior students
END:VEVENT
BEGIN:VEVENT
DTSTAMP;VALUE=DATE-TIME:20180123T032239Z
DTSTART;VALUE=DATE-TIME:20160901T233600Z
DTEND;VALUE=DATE-TIME:20020203
UID:http://ridgeview.school.nz/spell-a-thon-test-results-and-sponsorship-cards-returned-to-children
URL;VALUE=URI:http://ridgeview.school.nz/spell-a-thon-test-results-and-sponsorship-cards-returned-to-children
SUMMARY:Spell-a-thon test results and sponsorship cards returned to children.
END:VEVENT
BEGIN:VEVENT
DTSTAMP;VALUE=DATE-TIME:20180123T032239Z
DTSTART;VALUE=DATE-TIME:20160907T233700Z
DTEND;VALUE=DATE-TIME:20020203
UID:http://ridgeview.school.nz/rippa-rugby-field-day-at-riverhead-domain-for-year-34-and-56-teams-0
URL;VALUE=URI:http://ridgeview.school.nz/rippa-rugby-field-day-at-riverhead-domain-for-year-34-and-56-teams-0
SUMMARY:Rippa Rugby Field Day at Riverhead Domain for Year 3/4 and 5/6 teams
DESCRIPTION:<p>Please be at school at 8.30am.</p>
 
END:VEVENT
BEGIN:VEVENT
DTSTAMP;VALUE=DATE-TIME:20180123T032239Z
DTSTART;VALUE=DATE-TIME:20160920T053000Z
DTEND;VALUE=DATE-TIME:20160920T053000Z
UID:http://ridgeview.school.nz/major-production-performance-1-all-children-involved
URL;VALUE=URI:http://ridgeview.school.nz/major-production-performance-1-all-children-involved
SUMMARY:Major Production - Performance #1 - All children involved.
END:VEVENT
BEGIN:VEVENT
DTSTAMP;VALUE=DATE-TIME:20180123T032239Z
DTSTART;VALUE=DATE-TIME:20160920T213000Z
DTEND;VALUE=DATE-TIME:20160920T213000Z
UID:http://ridgeview.school.nz/major-production-performance-2-matinee-performance-all-children-involved
URL;VALUE=URI:http://ridgeview.school.nz/major-production-performance-2-matinee-performance-all-children-involved
SUMMARY:Major Production - Performance #2 - MATINEE PERFORMANCE -  All children involved.
END:VEVENT
BEGIN:VEVENT
DTSTAMP;VALUE=DATE-TIME:20180123T032239Z
DTSTART;VALUE=DATE-TIME:20160922T053000Z
DTEND;VALUE=DATE-TIME:20160922T053000Z
UID:http://ridgeview.school.nz/major-production-performance-3-all-children-involved
URL;VALUE=URI:http://ridgeview.school.nz/major-production-performance-3-all-children-involved
SUMMARY:Major Production - Performance #3 - All children involved.
END:VEVENT
BEGIN:VEVENT
DTSTAMP;VALUE=DATE-TIME:20180123T032239Z
DTSTART;VALUE=DATE-TIME:20160922T233900Z
DTEND;VALUE=DATE-TIME:20020203
UID:http://ridgeview.school.nz/spell-a-thon-money-due-back-to-school-by-today-please
URL;VALUE=URI:http://ridgeview.school.nz/spell-a-thon-money-due-back-to-school-by-today-please
SUMMARY:Spell-a-thon money due back to school by today please.
END:VEVENT
END:VCALENDAR
