BEGIN:VCALENDAR
VERSION:2.0
METHOD:PUBLISH
X-WR-CALNAME:RidgeView School |  July 01 2016- August 01 2016 | Filter\: 
PRODID:-//strange bird labs//Drupal iCal API//EN
BEGIN:VEVENT
DTSTAMP;VALUE=DATE-TIME:20180123T034514Z
DTSTART;VALUE=DATE-TIME:20160708T041500Z
DTEND;VALUE=DATE-TIME:20020203
UID:http://ridgeview.school.nz/300pm-term-2-ends
URL;VALUE=URI:http://ridgeview.school.nz/300pm-term-2-ends
SUMMARY:3.00pm Term 2 ends
END:VEVENT
BEGIN:VEVENT
DTSTAMP;VALUE=DATE-TIME:20180123T034514Z
DTSTART;VALUE=DATE-TIME:20160724T230500Z
DTEND;VALUE=DATE-TIME:20020203
UID:http://ridgeview.school.nz/900am-term-3-begins-0
URL;VALUE=URI:http://ridgeview.school.nz/900am-term-3-begins-0
SUMMARY:9.00am Term 3 begins
END:VEVENT
BEGIN:VEVENT
DTSTAMP;VALUE=DATE-TIME:20180123T034514Z
DTSTART;VALUE=DATE-TIME:20160726T230600Z
DTEND;VALUE=DATE-TIME:20020203
UID:http://ridgeview.school.nz/chocolate-muffins-for-morning-tea-50c1
URL;VALUE=URI:http://ridgeview.school.nz/chocolate-muffins-for-morning-tea-50c1
SUMMARY:Chocolate muffins for morning tea 50c/$1
END:VEVENT
BEGIN:VEVENT
DTSTAMP;VALUE=DATE-TIME:20180123T034514Z
DTSTART;VALUE=DATE-TIME:20160727T230700Z
DTEND;VALUE=DATE-TIME:20020203
UID:http://ridgeview.school.nz/rippa-rugby-field-day-at-riverhead-domain-for-year-34-and-56-teams
URL;VALUE=URI:http://ridgeview.school.nz/rippa-rugby-field-day-at-riverhead-domain-for-year-34-and-56-teams
SUMMARY:Rippa Rugby Field Day at Riverhead Domain for Year 3/4 and 5/6 teams
DESCRIPTION:<p>Here are the important reminders in preparation for this day\:</p>
 <ul>
 <li>Arrive at school at 8.30am.</li>
 <li>Come to school in your school uniform.&nbsp\; If you have a blue RVS Sports shirt\, bring this to school.</li>
 </ul>
 <p>Remember to bring\:</p>
 
END:VEVENT
BEGIN:VEVENT
DTSTAMP;VALUE=DATE-TIME:20180123T034514Z
DTSTART;VALUE=DATE-TIME:20160727T232400Z
DTEND;VALUE=DATE-TIME:20020203
UID:http://ridgeview.school.nz/student-led-conferences-1-0
URL;VALUE=URI:http://ridgeview.school.nz/student-led-conferences-1-0
SUMMARY:Student Led Conferences #1
DESCRIPTION:<p>3.15pm - 7.30pm</p>
 <p>Please book a time with Janne in our School Office.</p>
 
END:VEVENT
BEGIN:VEVENT
DTSTAMP;VALUE=DATE-TIME:20180123T034514Z
DTSTART;VALUE=DATE-TIME:20160728T232500Z
DTEND;VALUE=DATE-TIME:20020203
UID:http://ridgeview.school.nz/subway-lunch-orders-begin-today-and-continue-every-second-friday
URL;VALUE=URI:http://ridgeview.school.nz/subway-lunch-orders-begin-today-and-continue-every-second-friday
SUMMARY:American hotdog lunch orders begin today and continue every second Friday
END:VEVENT
END:VCALENDAR
